BEGIN:VCALENDAR
VERSION:2.0
PRODID: -//CMS 5.0 //NONSGML //DE
BEGIN:VEVENT
SUMMARY:Gottesdienst
DESCRIPTION:Gottesdienst\n\n\n\nhttps://radeberg.nak-nordost.de/db/60015
 3
UID:600153@radeberg.nak-nordost.de
LOCATION:Uwe Lengert
CATEGORIES:Gemeinde Radeberg,Gottesdienst
X-ORGANIZER:
STATUS:CONFIRMED
CLASS:PUBLIC
DTSTART:20260510T080000Z
DTEND:20260510T080000Z
DTSTAMP:20260424T115214Z
CREATED:20260410T155614Z
LAST-MODIFIED:20260410T155627Z
BEGIN:VALARM
UID:08F87D34-3FD4-11F1-9026-880177372A87
TRIGGER:-PT60M
ACTION:DISPLAY
DESCRIPTION:SUMMARY:Gottesdienst
END:VALARM
END:VEVENT
END:VCALENDAR
